BEGIN:VCALENDAR
VERSION:2.0
PRODID:-//Tasmanian Road Runners - ECPv6.15.20//NONSGML v1.0//EN
CALSCALE:GREGORIAN
METHOD:PUBLISH
X-WR-CALNAME:Tasmanian Road Runners
X-ORIGINAL-URL:https://tasmanianroadrunners.org.au
X-WR-CALDESC:Events for Tasmanian Road Runners
REFRESH-INTERVAL;VALUE=DURATION:PT1H
X-Robots-Tag:noindex
X-PUBLISHED-TTL:PT1H
BEGIN:VTIMEZONE
TZID:Australia/Hobart
BEGIN:STANDARD
TZOFFSETFROM:+1100
TZOFFSETTO:+1000
TZNAME:AEST
DTSTART:20260404T160000
END:STANDARD
BEGIN:DAYLIGHT
TZOFFSETFROM:+1000
TZOFFSETTO:+1100
TZNAME:AEDT
DTSTART:20261003T160000
END:DAYLIGHT
BEGIN:STANDARD
TZOFFSETFROM:+1100
TZOFFSETTO:+1000
TZNAME:AEST
DTSTART:20270403T160000
END:STANDARD
BEGIN:DAYLIGHT
TZOFFSETFROM:+1000
TZOFFSETTO:+1100
TZNAME:AEDT
DTSTART:20271002T160000
END:DAYLIGHT
BEGIN:STANDARD
TZOFFSETFROM:+1100
TZOFFSETTO:+1000
TZNAME:AEST
DTSTART:20280401T160000
END:STANDARD
BEGIN:DAYLIGHT
TZOFFSETFROM:+1000
TZOFFSETTO:+1100
TZNAME:AEDT
DTSTART:20280930T160000
END:DAYLIGHT
END:VTIMEZONE
BEGIN:VEVENT
DTSTART;TZID=Australia/Hobart:20270321T050000
DTEND;TZID=Australia/Hobart:20270321T235900
DTSTAMP:20260423T203254
CREATED:20241210T004725Z
LAST-MODIFIED:20260329T222451Z
UID:2045655-1805605200-1805673540@tasmanianroadrunners.org.au
SUMMARY:Bluff 2 Boat Ramp
DESCRIPTION:This is Australia’s richest 10km road race for both male and females\, starting and finishing under the Elevated Walkway\, Devonport. This is a fast certified AIMS road course that takes in the New Living City\, this running & walking event is for the whole family. \n\n\n\nYou can choose to run a 10 km\, 5 km\, 1.5 km and kids 500m distances. It is guaranteed to be one big party! \n\n\n\n\n\n\n\n\n\n\n\n\n\n\n\n\n\n\n\n\n\nDevonport TAS\n\n\n\nEvent Distance: 10km\, 5km\, 1.5km\, kids 500m \n\n\n\n\n\n \n\n\n\n\n\n\nOrganised by: \n\n\n\n\n\n\n\nTRR Pacers: \n\n\n\nYes \n\n\n\n\n\nTRR Member Discount: \n\n\n\nYes
URL:https://tasmanianroadrunners.org.au/event/bluff-2-boat-ramp/
LOCATION:Devonport TAS\, Devonport\, Tasmania\, 7310\, Australia
CATEGORIES:Road Races
ATTACH;FMTTYPE=image/jpeg:https://tasmanianroadrunners.org.au/wp-content/uploads/2024/12/tailwind-photo-b2b-2024-2.jpg
ORGANIZER;CN="Everyday Lions Events":MAILTO:everydaylionsevents.org@gmail.com
END:VEVENT
END:VCALENDAR