BEGIN:VCALENDAR
VERSION:2.0
PRODID:-//Tasmanian Road Runners - ECPv6.15.20//NONSGML v1.0//EN
CALSCALE:GREGORIAN
METHOD:PUBLISH
X-ORIGINAL-URL:https://tasmanianroadrunners.org.au
X-WR-CALDESC:Events for Tasmanian Road Runners
REFRESH-INTERVAL;VALUE=DURATION:PT1H
X-Robots-Tag:noindex
X-PUBLISHED-TTL:PT1H
BEGIN:VTIMEZONE
TZID:Australia/Hobart
BEGIN:STANDARD
TZOFFSETFROM:+1100
TZOFFSETTO:+1000
TZNAME:AEST
DTSTART:20250405T160000
END:STANDARD
BEGIN:DAYLIGHT
TZOFFSETFROM:+1000
TZOFFSETTO:+1100
TZNAME:AEDT
DTSTART:20251004T160000
END:DAYLIGHT
BEGIN:STANDARD
TZOFFSETFROM:+1100
TZOFFSETTO:+1000
TZNAME:AEST
DTSTART:20260404T160000
END:STANDARD
BEGIN:DAYLIGHT
TZOFFSETFROM:+1000
TZOFFSETTO:+1100
TZNAME:AEDT
DTSTART:20261003T160000
END:DAYLIGHT
BEGIN:STANDARD
TZOFFSETFROM:+1100
TZOFFSETTO:+1000
TZNAME:AEST
DTSTART:20270403T160000
END:STANDARD
BEGIN:DAYLIGHT
TZOFFSETFROM:+1000
TZOFFSETTO:+1100
TZNAME:AEDT
DTSTART:20271002T160000
END:DAYLIGHT
END:VTIMEZONE
BEGIN:VEVENT
DTSTART;TZID=Australia/Hobart:20260809T050000
DTEND;TZID=Australia/Hobart:20260809T235900
DTSTAMP:20260423T203314
CREATED:20250421T063428Z
LAST-MODIFIED:20251113T024123Z
UID:2047378-1786251600-1786319940@tasmanianroadrunners.org.au
SUMMARY:North West Trail Running Series: Railton
DESCRIPTION:The North West Trail Running Series is dedicated to promoting the joy and adventure of trail running in the scenic North West region. With a focus on inclusivity and camaraderie\, this series offers a variety of races for runners of all levels\, from beginners to seasoned trail veterans. \n\n\n\nParticipants can expect challenging yet achievable courses that wind through lush forests\, rugged terrain\, and breathtaking vistas. Whether you are looking to test your limits\, connect with nature\, or simply enjoy the thrill and beauty of the trails\, the North West Trail Running Series welcomes you to join in the excitement and embrace the beauty of trail running. \n\n\n\nAs the NWTRS is a self-supported event and given the nature of trail running and the fact we are running in the middle of a Tasmanian winter\, we require all participants on Medium and Long Courses to carry mandatory gear.  \n\n\n\n\n\n\n\n\n\n\n\n\n\n\n\n\n\n\n\n\n\nRailton TAS\n\n\n\nEvent Distance: 4.6km\, 12km\, 18km \n\n\n\n\n\n \n\n\n\n\n\n\nOrganised by: \n\n\n\n\n\n\n\nTRR Pacers: \n\n\n\nNo \n\n\n\n\n\nTRR Member Discount: \n\n\n\nNo
URL:https://tasmanianroadrunners.org.au/event/nw-trail-series-railton/
LOCATION:Railton TAS\, Giblin St\, Railton\, Tasmania\, 7305\, Australia
CATEGORIES:Trail Races
ATTACH;FMTTYPE=image/jpeg:https://tasmanianroadrunners.org.au/wp-content/uploads/2025/04/474007589_122198672948203100_9059154022427707153_n.jpg
END:VEVENT
BEGIN:VEVENT
DTSTART;TZID=Australia/Hobart:20260822T050000
DTEND;TZID=Australia/Hobart:20260822T235900
DTSTAMP:20260423T203314
CREATED:20250423T125155Z
LAST-MODIFIED:20251113T023159Z
UID:2047554-1787374800-1787443140@tasmanianroadrunners.org.au
SUMMARY:Light Night Glow Run + Walk - Devonport
DESCRIPTION:Get ready to light up the night! The Light Night Glow Run is an electrifying evening that blends fitness\, fun\, and glowing vibes.  \n\n\n\nThis vibrant\, family-friendly event transforms Devonport’s Bluff Road into a glowing spectacle of fun\, fitness\, and community spirit. Participants of all ages are encouraged to don their brightest\, most colourful costumes and join in the festivities. Whether you’re running or walking\, the atmosphere promises to be electric with glow sticks\, music\, and an abundance of energy. \n\n\n\nChoose from a variety of distances to suit all fitness levels: an 8 km run\, a 4 km run\, a 2 km kids’ run\, and a 600 m kids’ dash. \n\n\n\nEach event is designed to be inclusive and enjoyable for everyone\, from seasoned runners to families looking for a fun night out. \n\n\n\nAdding to the spirit of giving\, $5 from every registration in the 4 km and 8 km events will be donated to a local charity chosen by the event’s major sponsor. \n\n\n\n \n\n\n\n\n\n\n\n\n\n\n\n\n\n\n\n\n\n\n\n\n\nDevonport TAS\n\n\n\nEvent Distance: 4km\, 8km\, 2km Kids Run\, 600m Kids Dash \n\n\n\n\n\n \n\n\n\n\n\n\nOrganised by: \n\n\n\n\n\n\n\nTRR Pacers: \n\n\n\nYes \n\n\n\n\n\nTRR Member Discount: \n\n\n\nYes
URL:https://tasmanianroadrunners.org.au/event/light-night-glow-run-walk/
LOCATION:Devonport TAS\, Devonport\, Tasmania\, 7310\, Australia
CATEGORIES:Road Races
ATTACH;FMTTYPE=image/png:https://tasmanianroadrunners.org.au/wp-content/uploads/2025/04/glow-run.png
ORGANIZER;CN="Everyday Lions Events":MAILTO:everydaylionsevents.org@gmail.com
END:VEVENT
END:VCALENDAR