BEGIN:VCALENDAR
VERSION:2.0
PRODID:-//Tasmanian Road Runners - ECPv6.15.20//NONSGML v1.0//EN
CALSCALE:GREGORIAN
METHOD:PUBLISH
X-WR-CALNAME:Tasmanian Road Runners
X-ORIGINAL-URL:https://tasmanianroadrunners.org.au
X-WR-CALDESC:Events for Tasmanian Road Runners
REFRESH-INTERVAL;VALUE=DURATION:PT1H
X-Robots-Tag:noindex
X-PUBLISHED-TTL:PT1H
BEGIN:VTIMEZONE
TZID:Australia/Hobart
BEGIN:STANDARD
TZOFFSETFROM:+1100
TZOFFSETTO:+1000
TZNAME:AEST
DTSTART:20250405T160000
END:STANDARD
BEGIN:DAYLIGHT
TZOFFSETFROM:+1000
TZOFFSETTO:+1100
TZNAME:AEDT
DTSTART:20251004T160000
END:DAYLIGHT
BEGIN:STANDARD
TZOFFSETFROM:+1100
TZOFFSETTO:+1000
TZNAME:AEST
DTSTART:20260404T160000
END:STANDARD
BEGIN:DAYLIGHT
TZOFFSETFROM:+1000
TZOFFSETTO:+1100
TZNAME:AEDT
DTSTART:20261003T160000
END:DAYLIGHT
BEGIN:STANDARD
TZOFFSETFROM:+1100
TZOFFSETTO:+1000
TZNAME:AEST
DTSTART:20270403T160000
END:STANDARD
BEGIN:DAYLIGHT
TZOFFSETFROM:+1000
TZOFFSETTO:+1100
TZNAME:AEDT
DTSTART:20271002T160000
END:DAYLIGHT
END:VTIMEZONE
BEGIN:VEVENT
DTSTART;TZID=Australia/Hobart:20260628T173000
DTEND;TZID=Australia/Hobart:20260628T193000
DTSTAMP:20260422T200546
CREATED:20260422T035103Z
LAST-MODIFIED:20260422T035621Z
UID:2049104-1782667800-1782675000@tasmanianroadrunners.org.au
SUMMARY:Mid WinTRR Night Run
DESCRIPTION:Get along to our social run on this June evening to celebrate the WinTRR Solstice.  \n\n\n\nIt is a spectacular night run. Overall distance is about 6km. A headtorch is a must! \n\n\n\nThis is a free event. All welcome – Any pace / any ability and you don’t have to be a member. \n\n\n\nPlease join us afterwards for some special winTRR TRReats. BYO cups for soup/hot drinks. \n\n\n\nThe run will start at 6:00pm with a briefing at 5:45pm. Ensure you arrive early to secure parking (it’s a popular event!) \n\n\n\nRun: Starting on the bike track just below the Cenotaph car park\, we will cross the Tasman Bridge and return. \n\n\n\nRun leader: N/A \n\n\n\n— \n\n\n\nThis event is free\, but please RSVP at our Facebook event link below to assist with catering. \n\n\n\n\n\n\n\n\n\n\n\n\n\n\n\n\n\n\n\n\n\nHobart\, TAS\n\n\n\nEvent Distance: 6km \n\n\n\n\n\n \n\n\n\n\n\n\nOrganised by:
URL:https://tasmanianroadrunners.org.au/event/mid-wintrr-night-run/
LOCATION:Hobart TAS\, McVilly Drive\, Hobart\, 7000\, Australia
CATEGORIES:TRR Social Events
ATTACH;FMTTYPE=image/jpeg:https://tasmanianroadrunners.org.au/wp-content/uploads/2026/04/350785925_979340326748514_4168283365418099941_n-1.jpg
END:VEVENT
END:VCALENDAR